BEGIN:VCALENDAR
VERSION:2.0
PRODID:-//IT Professionals Conference - ECPv6.15.17.1//NONSGML v1.0//EN
CALSCALE:GREGORIAN
METHOD:PUBLISH
X-WR-CALNAME:IT Professionals Conference
X-ORIGINAL-URL:https://itproconf.wisc.edu
X-WR-CALDESC:Events for IT Professionals Conference
REFRESH-INTERVAL;VALUE=DURATION:PT1H
X-Robots-Tag:noindex
X-PUBLISHED-TTL:PT1H
BEGIN:VTIMEZONE
TZID:America/Chicago
BEGIN:DAYLIGHT
TZOFFSETFROM:-0600
TZOFFSETTO:-0500
TZNAME:CDT
DTSTART:20230312T080000
END:DAYLIGHT
BEGIN:STANDARD
TZOFFSETFROM:-0500
TZOFFSETTO:-0600
TZNAME:CST
DTSTART:20231105T070000
END:STANDARD
BEGIN:DAYLIGHT
TZOFFSETFROM:-0600
TZOFFSETTO:-0500
TZNAME:CDT
DTSTART:20240310T080000
END:DAYLIGHT
BEGIN:STANDARD
TZOFFSETFROM:-0500
TZOFFSETTO:-0600
TZNAME:CST
DTSTART:20241103T070000
END:STANDARD
BEGIN:DAYLIGHT
TZOFFSETFROM:-0600
TZOFFSETTO:-0500
TZNAME:CDT
DTSTART:20250309T080000
END:DAYLIGHT
BEGIN:STANDARD
TZOFFSETFROM:-0500
TZOFFSETTO:-0600
TZNAME:CST
DTSTART:20251102T070000
END:STANDARD
END:VTIMEZONE
BEGIN:VEVENT
DTSTART;TZID=America/Chicago:20240530T162000
DTEND;TZID=America/Chicago:20240530T180000
DTSTAMP:20260421T165901
CREATED:20240516T191140Z
LAST-MODIFIED:20240530T211349Z
UID:7687-1717086000-1717092000@itproconf.wisc.edu
SUMMARY:In-Person Networking @ The Terrace
DESCRIPTION:Memorial Union Terrace\nRain Location: Der Rathskeller @ Memorial Union \nWe’re sitting in the shade near the Der Stiftskeller/Rathskeller! \n\nJoin the conference planning committee and friends at the Terrace after the first day of the conference for a relaxed in-person social gathering! \nNo need to RSVP. Just look for the group of IT nerds sitting together. Open to all attendees\, not just those registered for in- person! \n\nPhoto by Jeff Miller / UW-Madison Photo Library.
URL:https://itproconf.wisc.edu/event/in-person-networking-the-terrace/
LOCATION:Memorial Union Terrace\, 800 Langdon St\, Madison\, WI\, 53706\, United States
CATEGORIES:2024 Conference,2024 In-Person Only
ATTACH;FMTTYPE=image/jpeg:https://itproconf.wisc.edu/wp-content/uploads/sites/296/2021/05/Terrace_reserved20_7160.jpg
END:VEVENT
BEGIN:VEVENT
DTSTART;TZID=America/Chicago:20240530T115500
DTEND;TZID=America/Chicago:20240530T124500
DTSTAMP:20260421T165901
CREATED:20240516T174246Z
LAST-MODIFIED:20240528T194439Z
UID:7641-1717070100-1717073100@itproconf.wisc.edu
SUMMARY:Lunch
DESCRIPTION:Wisconsin Idea Lounge (Lower Level) \n\nEnjoy a catered lunch and conversation with fellow IT Professionals. \nFor those attending in-person\, vegetarian and non-vegetarian options will be equally available.
URL:https://itproconf.wisc.edu/event/lunch/
LOCATION:Pyle Center\, 702 Langdon St.\, Madison\, WI\, 53706\, United States
CATEGORIES:2024 Conference,2024 In-Person Only,2024 Live Session
ATTACH;FMTTYPE=image/jpeg:https://itproconf.wisc.edu/wp-content/uploads/sites/296/2024/05/lunch.jpg
END:VEVENT
BEGIN:VEVENT
DTSTART;TZID=America/Chicago:20240530T080000
DTEND;TZID=America/Chicago:20240530T090000
DTSTAMP:20260421T165901
CREATED:20240513T211644Z
LAST-MODIFIED:20240513T221344Z
UID:7560-1717056000-1717059600@itproconf.wisc.edu
SUMMARY:Check-In for In-Person Attendees
DESCRIPTION:Outside Room 309 \n\nCheck-in and then enjoy coffee\, tea\, water\, fresh bakery selections\, seasonal fresh fruit\, and yogurt. \n\nNote: Room 309 will be available all day for check-in\, networking\, and decompression.
URL:https://itproconf.wisc.edu/event/check-in-for-in-person-attendees/
LOCATION:Pyle Center\, 702 Langdon St.\, Madison\, WI\, 53706\, United States
CATEGORIES:2024 Conference,2024 In-Person Only,2024 Live Session
ATTACH;FMTTYPE=image/jpeg:https://itproconf.wisc.edu/wp-content/uploads/sites/296/2024/05/Coffee.jpg
END:VEVENT
END:VCALENDAR