BEGIN:VCALENDAR
VERSION:2.0
PRODID:-//IT Professionals Conference - ECPv6.15.17.1//NONSGML v1.0//EN
CALSCALE:GREGORIAN
METHOD:PUBLISH
X-WR-CALNAME:IT Professionals Conference
X-ORIGINAL-URL:https://itproconf.wisc.edu
X-WR-CALDESC:Events for IT Professionals Conference
REFRESH-INTERVAL;VALUE=DURATION:PT1H
X-Robots-Tag:noindex
X-PUBLISHED-TTL:PT1H
BEGIN:VTIMEZONE
TZID:America/Chicago
BEGIN:DAYLIGHT
TZOFFSETFROM:-0600
TZOFFSETTO:-0500
TZNAME:CDT
DTSTART:20230312T080000
END:DAYLIGHT
BEGIN:STANDARD
TZOFFSETFROM:-0500
TZOFFSETTO:-0600
TZNAME:CST
DTSTART:20231105T070000
END:STANDARD
BEGIN:DAYLIGHT
TZOFFSETFROM:-0600
TZOFFSETTO:-0500
TZNAME:CDT
DTSTART:20240310T080000
END:DAYLIGHT
BEGIN:STANDARD
TZOFFSETFROM:-0500
TZOFFSETTO:-0600
TZNAME:CST
DTSTART:20241103T070000
END:STANDARD
BEGIN:DAYLIGHT
TZOFFSETFROM:-0600
TZOFFSETTO:-0500
TZNAME:CDT
DTSTART:20250309T080000
END:DAYLIGHT
BEGIN:STANDARD
TZOFFSETFROM:-0500
TZOFFSETTO:-0600
TZNAME:CST
DTSTART:20251102T070000
END:STANDARD
END:VTIMEZONE
BEGIN:VEVENT
DTSTART;TZID=America/Chicago:20240530T090000
DTEND;TZID=America/Chicago:20240530T101500
DTSTAMP:20260423T022449
CREATED:20240513T214904Z
LAST-MODIFIED:20240530T142531Z
UID:7563-1717059600-1717064100@itproconf.wisc.edu
SUMMARY:Welcome & Keynote - Lead Where You Are
DESCRIPTION:Room 313 (Overflow in Room 325/326) \nJoin the Zoom Event \n\nWelcome 9:00-9:15am – IT Professionals Conference co-chairs Sarah Lien and Elizabeth Kraege-Soechting will provide introductory remarks for the conference. \nKeynote 9:15-10:15am – Dr. Joe Sanfelippo\, the nationally recognized superintendent of Wisconsin’s Fall Creek School District\, will deliver the keynote address at this year’s IT Professionals Conference. \n\nKeynote Description:\nI’m just…It’s a phrase we hear all the time. I’m just a sysadmin\, I’m just a security analyst\, I’m just a instructional designer….the list is long and is often followed by reasons why something CAN’T happen. Leadership is an action and it starts with you. Leading with INTENTION creates purpose. Leading with CONNECTION creates momentum. Leading with DIRECTION creates collective efficacy. Leading with all three in mind will build your capacity and foster an environment where everyone in your organization has the best opportunity to lead from where they are. \n\nKeynote Speaker\n\nJoe Sanfelippo\n\n\nOpening Remarks (9:00-9:15am)\n\nElizabeth Kraege-Soechting\nSarah Lien\n\n\nYouTube LiveStream\n \n 
URL:https://itproconf.wisc.edu/event/welcome-and-keynote/
LOCATION:Pyle Center\, 702 Langdon St.\, Madison\, WI\, 53706\, United States
CATEGORIES:2024 Conference,2024 Hybrid Session,2024 Keynote,2024 Live Session
ATTACH;FMTTYPE=image/jpeg:https://itproconf.wisc.edu/wp-content/uploads/sites/296/2024/04/Joe-Sanfelippo-Headshot2-1.jpg
END:VEVENT
END:VCALENDAR